BEGIN:VCALENDAR
VERSION:2.0
PRODID:-//Szent László Óvoda - ECPv4.9.10//NONSGML v1.0//EN
CALSCALE:GREGORIAN
METHOD:PUBLISH
X-WR-CALNAME:Szent László Óvoda
X-ORIGINAL-URL:http://szentlaszloovoda.hu
X-WR-CALDESC:Events for Szent László Óvoda
BEGIN:VTIMEZONE
TZID:Europe/Helsinki
BEGIN:DAYLIGHT
TZOFFSETFROM:+0200
TZOFFSETTO:+0300
TZNAME:EEST
DTSTART:20240331T010000
END:DAYLIGHT
BEGIN:STANDARD
TZOFFSETFROM:+0300
TZOFFSETTO:+0200
TZNAME:EET
DTSTART:20241027T010000
END:STANDARD
END:VTIMEZONE
BEGIN:VEVENT
DTSTART;TZID=Europe/Helsinki:20240919T173000
DTEND;TZID=Europe/Helsinki:20240919T180000
DTSTAMP:20260425T204213
CREATED:20240918T071401Z
LAST-MODIFIED:20240918T071401Z
UID:2909-1726767000-1726768800@szentlaszloovoda.hu
SUMMARY:Veni Sancte
DESCRIPTION:Tanévnyitó szentmise 17.30-kor Szabolcs atyával a klotildligeti templomban. \n
URL:http://szentlaszloovoda.hu/event/veni-sancte/
END:VEVENT
END:VCALENDAR