BEGIN:VCALENDAR
VERSION:2.0
PRODID:-//Szent László Óvoda - ECPv4.9.10//NONSGML v1.0//EN
CALSCALE:GREGORIAN
METHOD:PUBLISH
X-WR-CALNAME:Szent László Óvoda
X-ORIGINAL-URL:http://szentlaszloovoda.hu
X-WR-CALDESC:Events for Szent László Óvoda
BEGIN:VTIMEZONE
TZID:Europe/Helsinki
BEGIN:DAYLIGHT
TZOFFSETFROM:+0200
TZOFFSETTO:+0300
TZNAME:EEST
DTSTART:20230326T010000
END:DAYLIGHT
BEGIN:STANDARD
TZOFFSETFROM:+0300
TZOFFSETTO:+0200
TZNAME:EET
DTSTART:20231029T010000
END:STANDARD
END:VTIMEZONE
BEGIN:VEVENT
DTSTART;TZID=Europe/Helsinki:20230405T080000
DTEND;TZID=Europe/Helsinki:20230411T170000
DTSTAMP:20260426T023805
CREATED:20230207T081307Z
LAST-MODIFIED:20230207T081451Z
UID:2268-1680681600-1681232400@szentlaszloovoda.hu
SUMMARY:Tavaszi szünet
DESCRIPTION:A tavaszi szünet előtti utolsó óvodai nap: április 04. \nA tavaszi szünet utáni első óvodai nap: április 12. \n
URL:http://szentlaszloovoda.hu/event/tavaszi-szunet-2/
END:VEVENT
END:VCALENDAR