BEGIN:VCALENDAR
VERSION:2.0
PRODID:-//Szent László Óvoda - ECPv4.9.10//NONSGML v1.0//EN
CALSCALE:GREGORIAN
METHOD:PUBLISH
X-WR-CALNAME:Szent László Óvoda
X-ORIGINAL-URL:http://szentlaszloovoda.hu
X-WR-CALDESC:Events for Szent László Óvoda
BEGIN:VTIMEZONE
TZID:Europe/Helsinki
BEGIN:DAYLIGHT
TZOFFSETFROM:+0200
TZOFFSETTO:+0300
TZNAME:EEST
DTSTART:20230326T010000
END:DAYLIGHT
BEGIN:STANDARD
TZOFFSETFROM:+0300
TZOFFSETTO:+0200
TZNAME:EET
DTSTART:20231029T010000
END:STANDARD
END:VTIMEZONE
BEGIN:VEVENT
DTSTART;TZID=Europe/Helsinki:20230803T090000
DTEND;TZID=Europe/Helsinki:20230803T130000
DTSTAMP:20260425T220303
CREATED:20230621T090604Z
LAST-MODIFIED:20230621T090604Z
UID:2441-1691053200-1691067600@szentlaszloovoda.hu
SUMMARY:Nyári telefonos ügyelet
DESCRIPTION:0630/3652816 \n
URL:http://szentlaszloovoda.hu/event/nyari-telefonos-ugyelet-2/
END:VEVENT
END:VCALENDAR