BEGIN:VCALENDAR
VERSION:2.0
PRODID:-//Szent László Óvoda - ECPv4.9.10//NONSGML v1.0//EN
CALSCALE:GREGORIAN
METHOD:PUBLISH
X-WR-CALNAME:Szent László Óvoda
X-ORIGINAL-URL:http://szentlaszloovoda.hu
X-WR-CALDESC:Events for Szent László Óvoda
BEGIN:VTIMEZONE
TZID:Europe/Helsinki
BEGIN:DAYLIGHT
TZOFFSETFROM:+0200
TZOFFSETTO:+0300
TZNAME:EEST
DTSTART:20240331T010000
END:DAYLIGHT
BEGIN:STANDARD
TZOFFSETFROM:+0300
TZOFFSETTO:+0200
TZNAME:EET
DTSTART:20241027T010000
END:STANDARD
END:VTIMEZONE
BEGIN:VEVENT
DTSTART;TZID=Europe/Helsinki:20240715T080000
DTEND;TZID=Europe/Helsinki:20240820T170000
DTSTAMP:20260425T155607
CREATED:20240112T075022Z
LAST-MODIFIED:20240119T072930Z
UID:2554-1721030400-1724173200@szentlaszloovoda.hu
SUMMARY:Nyári szünet
DESCRIPTION:Az óvoda a nyári szünet időtartama alatt\, 2024.07.15 napjától 2024.08.25. napjáig zárva tart. A szünet utáni első óvodai nap : 2024.08.26.  \n
URL:http://szentlaszloovoda.hu/event/nyari-szunet/
END:VEVENT
END:VCALENDAR