BEGIN:VCALENDAR
VERSION:2.0
PRODID:-//Szent László Óvoda - ECPv4.9.10//NONSGML v1.0//EN
CALSCALE:GREGORIAN
METHOD:PUBLISH
X-WR-CALNAME:Szent László Óvoda
X-ORIGINAL-URL:http://szentlaszloovoda.hu
X-WR-CALDESC:Events for Szent László Óvoda
BEGIN:VTIMEZONE
TZID:Europe/Helsinki
BEGIN:DAYLIGHT
TZOFFSETFROM:+0200
TZOFFSETTO:+0300
TZNAME:EEST
DTSTART:20230326T010000
END:DAYLIGHT
BEGIN:STANDARD
TZOFFSETFROM:+0300
TZOFFSETTO:+0200
TZNAME:EET
DTSTART:20231029T010000
END:STANDARD
END:VTIMEZONE
BEGIN:VEVENT
DTSTART;TZID=Europe/Helsinki:20230710T080000
DTEND;TZID=Europe/Helsinki:20230815T170000
DTSTAMP:20260426T013046
CREATED:20230207T081641Z
LAST-MODIFIED:20230207T081911Z
UID:2273-1688976000-1692118800@szentlaszloovoda.hu
SUMMARY:Nyári szünet
DESCRIPTION:A nyári szünet előtti utolsó óvodai nap: július 07. \nA nyári szünet utáni első óvodai nap: augusztus 16. \n
URL:http://szentlaszloovoda.hu/event/nyar-szunet/
END:VEVENT
END:VCALENDAR