BEGIN:VCALENDAR
VERSION:2.0
PRODID:-//Szent László Óvoda - ECPv4.9.10//NONSGML v1.0//EN
CALSCALE:GREGORIAN
METHOD:PUBLISH
X-WR-CALNAME:Szent László Óvoda
X-ORIGINAL-URL:http://szentlaszloovoda.hu
X-WR-CALDESC:Events for Szent László Óvoda
BEGIN:VTIMEZONE
TZID:Europe/Helsinki
BEGIN:DAYLIGHT
TZOFFSETFROM:+0200
TZOFFSETTO:+0300
TZNAME:EEST
DTSTART:20240331T010000
END:DAYLIGHT
BEGIN:STANDARD
TZOFFSETFROM:+0300
TZOFFSETTO:+0200
TZNAME:EET
DTSTART:20241027T010000
END:STANDARD
END:VTIMEZONE
BEGIN:VEVENT
DTSTART;TZID=Europe/Helsinki:20240314T080000
DTEND;TZID=Europe/Helsinki:20240314T170000
DTSTAMP:20260425T171849
CREATED:20240216T105558Z
LAST-MODIFIED:20240216T105636Z
UID:2692-1710403200-1710435600@szentlaszloovoda.hu
SUMMARY:Nevelés nélküli munkanap
DESCRIPTION:Az óvoda ezen a napon zárva tart. \n
URL:http://szentlaszloovoda.hu/event/neveles-nelkuli-munkanap-8/
END:VEVENT
END:VCALENDAR