BEGIN:VCALENDAR
VERSION:2.0
PRODID:-//Szent László Óvoda - ECPv4.9.10//NONSGML v1.0//EN
CALSCALE:GREGORIAN
METHOD:PUBLISH
X-WR-CALNAME:Szent László Óvoda
X-ORIGINAL-URL:http://szentlaszloovoda.hu
X-WR-CALDESC:Events for Szent László Óvoda
BEGIN:VTIMEZONE
TZID:Europe/Helsinki
BEGIN:DAYLIGHT
TZOFFSETFROM:+0200
TZOFFSETTO:+0300
TZNAME:EEST
DTSTART:20230326T010000
END:DAYLIGHT
BEGIN:STANDARD
TZOFFSETFROM:+0300
TZOFFSETTO:+0200
TZNAME:EET
DTSTART:20231029T010000
END:STANDARD
END:VTIMEZONE
BEGIN:VEVENT
DTSTART;TZID=Europe/Helsinki:20230216T080000
DTEND;TZID=Europe/Helsinki:20230216T170000
DTSTAMP:20260426T040358
CREATED:20230207T081712Z
LAST-MODIFIED:20230207T081712Z
UID:2275-1676534400-1676566800@szentlaszloovoda.hu
SUMMARY:Farsang
DESCRIPTION:
URL:http://szentlaszloovoda.hu/event/farsang/
END:VEVENT
END:VCALENDAR