BEGIN:VCALENDAR
VERSION:2.0
PRODID:-//Szent László Óvoda - ECPv4.9.10//NONSGML v1.0//EN
CALSCALE:GREGORIAN
METHOD:PUBLISH
X-WR-CALNAME:Szent László Óvoda
X-ORIGINAL-URL:http://szentlaszloovoda.hu
X-WR-CALDESC:Events for Szent László Óvoda
BEGIN:VTIMEZONE
TZID:Europe/Helsinki
BEGIN:DAYLIGHT
TZOFFSETFROM:+0200
TZOFFSETTO:+0300
TZNAME:EEST
DTSTART:20260329T010000
END:DAYLIGHT
BEGIN:STANDARD
TZOFFSETFROM:+0300
TZOFFSETTO:+0200
TZNAME:EET
DTSTART:20261025T010000
END:STANDARD
END:VTIMEZONE
BEGIN:VEVENT
DTSTART;TZID=Europe/Helsinki:20260319T150000
DTEND;TZID=Europe/Helsinki:20260319T180000
DTSTAMP:20260426T032751
CREATED:20250313T075534Z
LAST-MODIFIED:20260310T090051Z
UID:3193-1773932400-1773943200@szentlaszloovoda.hu
SUMMARY:Apák napja
DESCRIPTION:15 órától apák napi játszódélután\, 17:15-kor szentmise az Édesapákért a klotildligeti templomban. \n
URL:http://szentlaszloovoda.hu/event/apak-napja/
END:VEVENT
END:VCALENDAR