BEGIN:VCALENDAR
VERSION:2.0
PRODID:-//Szent László Óvoda - ECPv4.9.10//NONSGML v1.0//EN
CALSCALE:GREGORIAN
METHOD:PUBLISH
X-WR-CALNAME:Szent László Óvoda
X-ORIGINAL-URL:http://szentlaszloovoda.hu
X-WR-CALDESC:Events for Szent László Óvoda
BEGIN:VTIMEZONE
TZID:Europe/Helsinki
BEGIN:DAYLIGHT
TZOFFSETFROM:+0200
TZOFFSETTO:+0300
TZNAME:EEST
DTSTART:20230326T010000
END:DAYLIGHT
BEGIN:STANDARD
TZOFFSETFROM:+0300
TZOFFSETTO:+0200
TZNAME:EET
DTSTART:20231029T010000
END:STANDARD
END:VTIMEZONE
BEGIN:VEVENT
DTSTART;TZID=Europe/Helsinki:20230509T150000
DTEND;TZID=Europe/Helsinki:20230509T180000
DTSTAMP:20260426T011727
CREATED:20230418T083511Z
LAST-MODIFIED:20230418T083511Z
UID:2369-1683644400-1683655200@szentlaszloovoda.hu
SUMMARY:Anyák napja
DESCRIPTION:Anyák napi játszódélután és szentmise \n
URL:http://szentlaszloovoda.hu/event/anyak-napja/
END:VEVENT
END:VCALENDAR