BEGIN:VCALENDAR
VERSION:2.0
PRODID:-//Szent László Óvoda - ECPv4.9.10//NONSGML v1.0//EN
CALSCALE:GREGORIAN
METHOD:PUBLISH
X-WR-CALNAME:Szent László Óvoda
X-ORIGINAL-URL:http://szentlaszloovoda.hu
X-WR-CALDESC:Events for Szent László Óvoda
BEGIN:VTIMEZONE
TZID:Europe/Helsinki
BEGIN:DAYLIGHT
TZOFFSETFROM:+0200
TZOFFSETTO:+0300
TZNAME:EEST
DTSTART:20240331T010000
END:DAYLIGHT
BEGIN:STANDARD
TZOFFSETFROM:+0300
TZOFFSETTO:+0200
TZNAME:EET
DTSTART:20241027T010000
END:STANDARD
END:VTIMEZONE
BEGIN:VEVENT
DTSTART;TZID=Europe/Helsinki:20240509T150000
DTEND;TZID=Europe/Helsinki:20240509T180000
DTSTAMP:20260425T141807
CREATED:20240205T090321Z
LAST-MODIFIED:20240205T090321Z
UID:2631-1715266800-1715277600@szentlaszloovoda.hu
SUMMARY:Anyák napja
DESCRIPTION:Anyák napi játszódélután a csoportokban 15 órától\, 17:30: mise az Édesanyákért a klotildligeti templomban \n
URL:http://szentlaszloovoda.hu/event/anyak-napja-2/
END:VEVENT
END:VCALENDAR